BEGIN:VCALENDAR
VERSION:2.0
PRODID:-//Fund for the Arts - ECPv6.15.20//NONSGML v1.0//EN
CALSCALE:GREGORIAN
METHOD:PUBLISH
X-WR-CALNAME:Fund for the Arts
X-ORIGINAL-URL:https://fundforthearts.org
X-WR-CALDESC:Events for Fund for the Arts
REFRESH-INTERVAL;VALUE=DURATION:PT1H
X-Robots-Tag:noindex
X-PUBLISHED-TTL:PT1H
BEGIN:VTIMEZONE
TZID:America/New_York
BEGIN:DAYLIGHT
TZOFFSETFROM:-0500
TZOFFSETTO:-0400
TZNAME:EDT
DTSTART:20230312T070000
END:DAYLIGHT
BEGIN:STANDARD
TZOFFSETFROM:-0400
TZOFFSETTO:-0500
TZNAME:EST
DTSTART:20231105T060000
END:STANDARD
BEGIN:DAYLIGHT
TZOFFSETFROM:-0500
TZOFFSETTO:-0400
TZNAME:EDT
DTSTART:20240310T070000
END:DAYLIGHT
BEGIN:STANDARD
TZOFFSETFROM:-0400
TZOFFSETTO:-0500
TZNAME:EST
DTSTART:20241103T060000
END:STANDARD
BEGIN:DAYLIGHT
TZOFFSETFROM:-0500
TZOFFSETTO:-0400
TZNAME:EDT
DTSTART:20250309T070000
END:DAYLIGHT
BEGIN:STANDARD
TZOFFSETFROM:-0400
TZOFFSETTO:-0500
TZNAME:EST
DTSTART:20251102T060000
END:STANDARD
END:VTIMEZONE
BEGIN:VEVENT
DTSTART;TZID=America/New_York:20240705T090000
DTEND;TZID=America/New_York:20240705T170000
DTSTAMP:20260425T100632
CREATED:20240524T200201Z
LAST-MODIFIED:20240524T200321Z
UID:10004663-1720170000-1720198800@fundforthearts.org
SUMMARY:The Falls of the Ohio State Park
DESCRIPTION:Explore 390 million years of history at the Falls of the Ohio State Park in Clarksville\, Indiana. Visit the interpretive center museum\, open daily\, and try a fossil bed hike at 1 pm (weather permitting)! Visit www.fallsoftheohio.org or their Facebook page for more detailed information. \nAge Range: 6 & Up
URL:https://fundforthearts.org/event/the-falls-of-the-ohio-state-park-copy-copy/2024-07-05/
LOCATION:The Falls of the Ohio State Park\, 201 W Riverside Dr.\, Clarksville\, IN\, 47129\, United States
CATEGORIES:Outdoor Activity
ATTACH;FMTTYPE=image/jpeg:https://fundforthearts.org/wp-content/uploads/2024/05/Falls-of-the-Ohio-State-Park.jpg
END:VEVENT
BEGIN:VEVENT
DTSTART;TZID=America/New_York:20240704T090000
DTEND;TZID=America/New_York:20240704T170000
DTSTAMP:20260425T100632
CREATED:20240524T200201Z
LAST-MODIFIED:20240524T200321Z
UID:10004662-1720083600-1720112400@fundforthearts.org
SUMMARY:The Falls of the Ohio State Park
DESCRIPTION:Explore 390 million years of history at the Falls of the Ohio State Park in Clarksville\, Indiana. Visit the interpretive center museum\, open daily\, and try a fossil bed hike at 1 pm (weather permitting)! Visit www.fallsoftheohio.org or their Facebook page for more detailed information. \nAge Range: 6 & Up
URL:https://fundforthearts.org/event/the-falls-of-the-ohio-state-park-copy-copy/2024-07-04/
LOCATION:The Falls of the Ohio State Park\, 201 W Riverside Dr.\, Clarksville\, IN\, 47129\, United States
CATEGORIES:Outdoor Activity
ATTACH;FMTTYPE=image/jpeg:https://fundforthearts.org/wp-content/uploads/2024/05/Falls-of-the-Ohio-State-Park.jpg
END:VEVENT
BEGIN:VEVENT
DTSTART;TZID=America/New_York:20240703T090000
DTEND;TZID=America/New_York:20240703T170000
DTSTAMP:20260425T100632
CREATED:20240524T200201Z
LAST-MODIFIED:20240524T200321Z
UID:10004661-1719997200-1720026000@fundforthearts.org
SUMMARY:The Falls of the Ohio State Park
DESCRIPTION:Explore 390 million years of history at the Falls of the Ohio State Park in Clarksville\, Indiana. Visit the interpretive center museum\, open daily\, and try a fossil bed hike at 1 pm (weather permitting)! Visit www.fallsoftheohio.org or their Facebook page for more detailed information. \nAge Range: 6 & Up
URL:https://fundforthearts.org/event/the-falls-of-the-ohio-state-park-copy-copy/2024-07-03/
LOCATION:The Falls of the Ohio State Park\, 201 W Riverside Dr.\, Clarksville\, IN\, 47129\, United States
CATEGORIES:Outdoor Activity
ATTACH;FMTTYPE=image/jpeg:https://fundforthearts.org/wp-content/uploads/2024/05/Falls-of-the-Ohio-State-Park.jpg
END:VEVENT
BEGIN:VEVENT
DTSTART;TZID=America/New_York:20240702T090000
DTEND;TZID=America/New_York:20240702T170000
DTSTAMP:20260425T100632
CREATED:20240524T200201Z
LAST-MODIFIED:20240524T200321Z
UID:10004660-1719910800-1719939600@fundforthearts.org
SUMMARY:The Falls of the Ohio State Park
DESCRIPTION:Explore 390 million years of history at the Falls of the Ohio State Park in Clarksville\, Indiana. Visit the interpretive center museum\, open daily\, and try a fossil bed hike at 1 pm (weather permitting)! Visit www.fallsoftheohio.org or their Facebook page for more detailed information. \nAge Range: 6 & Up
URL:https://fundforthearts.org/event/the-falls-of-the-ohio-state-park-copy-copy/2024-07-02/
LOCATION:The Falls of the Ohio State Park\, 201 W Riverside Dr.\, Clarksville\, IN\, 47129\, United States
CATEGORIES:Outdoor Activity
ATTACH;FMTTYPE=image/jpeg:https://fundforthearts.org/wp-content/uploads/2024/05/Falls-of-the-Ohio-State-Park.jpg
END:VEVENT
BEGIN:VEVENT
DTSTART;TZID=America/New_York:20240701T090000
DTEND;TZID=America/New_York:20240701T170000
DTSTAMP:20260425T100632
CREATED:20240524T200201Z
LAST-MODIFIED:20240524T200321Z
UID:10004659-1719824400-1719853200@fundforthearts.org
SUMMARY:The Falls of the Ohio State Park
DESCRIPTION:Explore 390 million years of history at the Falls of the Ohio State Park in Clarksville\, Indiana. Visit the interpretive center museum\, open daily\, and try a fossil bed hike at 1 pm (weather permitting)! Visit www.fallsoftheohio.org or their Facebook page for more detailed information. \nAge Range: 6 & Up
URL:https://fundforthearts.org/event/the-falls-of-the-ohio-state-park-copy-copy/2024-07-01/
LOCATION:The Falls of the Ohio State Park\, 201 W Riverside Dr.\, Clarksville\, IN\, 47129\, United States
CATEGORIES:Outdoor Activity
ATTACH;FMTTYPE=image/jpeg:https://fundforthearts.org/wp-content/uploads/2024/05/Falls-of-the-Ohio-State-Park.jpg
END:VEVENT
BEGIN:VEVENT
DTSTART;TZID=America/New_York:20240630T090000
DTEND;TZID=America/New_York:20240630T170000
DTSTAMP:20260425T100632
CREATED:20240524T200201Z
LAST-MODIFIED:20240524T200321Z
UID:10004658-1719738000-1719766800@fundforthearts.org
SUMMARY:The Falls of the Ohio State Park
DESCRIPTION:Explore 390 million years of history at the Falls of the Ohio State Park in Clarksville\, Indiana. Visit the interpretive center museum\, open daily\, and try a fossil bed hike at 1 pm (weather permitting)! Visit www.fallsoftheohio.org or their Facebook page for more detailed information. \nAge Range: 6 & Up
URL:https://fundforthearts.org/event/the-falls-of-the-ohio-state-park-copy-copy/2024-06-30/
LOCATION:The Falls of the Ohio State Park\, 201 W Riverside Dr.\, Clarksville\, IN\, 47129\, United States
CATEGORIES:Outdoor Activity
ATTACH;FMTTYPE=image/jpeg:https://fundforthearts.org/wp-content/uploads/2024/05/Falls-of-the-Ohio-State-Park.jpg
END:VEVENT
BEGIN:VEVENT
DTSTART;TZID=America/New_York:20240629T090000
DTEND;TZID=America/New_York:20240629T170000
DTSTAMP:20260425T100632
CREATED:20240524T200201Z
LAST-MODIFIED:20240524T200321Z
UID:10004657-1719651600-1719680400@fundforthearts.org
SUMMARY:The Falls of the Ohio State Park
DESCRIPTION:Explore 390 million years of history at the Falls of the Ohio State Park in Clarksville\, Indiana. Visit the interpretive center museum\, open daily\, and try a fossil bed hike at 1 pm (weather permitting)! Visit www.fallsoftheohio.org or their Facebook page for more detailed information. \nAge Range: 6 & Up
URL:https://fundforthearts.org/event/the-falls-of-the-ohio-state-park-copy-copy/2024-06-29/
LOCATION:The Falls of the Ohio State Park\, 201 W Riverside Dr.\, Clarksville\, IN\, 47129\, United States
CATEGORIES:Outdoor Activity
ATTACH;FMTTYPE=image/jpeg:https://fundforthearts.org/wp-content/uploads/2024/05/Falls-of-the-Ohio-State-Park.jpg
END:VEVENT
BEGIN:VEVENT
DTSTART;TZID=America/New_York:20240628T090000
DTEND;TZID=America/New_York:20240628T170000
DTSTAMP:20260425T100632
CREATED:20240524T200201Z
LAST-MODIFIED:20240524T200321Z
UID:10004656-1719565200-1719594000@fundforthearts.org
SUMMARY:The Falls of the Ohio State Park
DESCRIPTION:Explore 390 million years of history at the Falls of the Ohio State Park in Clarksville\, Indiana. Visit the interpretive center museum\, open daily\, and try a fossil bed hike at 1 pm (weather permitting)! Visit www.fallsoftheohio.org or their Facebook page for more detailed information. \nAge Range: 6 & Up
URL:https://fundforthearts.org/event/the-falls-of-the-ohio-state-park-copy-copy/2024-06-28/
LOCATION:The Falls of the Ohio State Park\, 201 W Riverside Dr.\, Clarksville\, IN\, 47129\, United States
CATEGORIES:Outdoor Activity
ATTACH;FMTTYPE=image/jpeg:https://fundforthearts.org/wp-content/uploads/2024/05/Falls-of-the-Ohio-State-Park.jpg
END:VEVENT
BEGIN:VEVENT
DTSTART;TZID=America/New_York:20240627T090000
DTEND;TZID=America/New_York:20240627T170000
DTSTAMP:20260425T100632
CREATED:20240524T200201Z
LAST-MODIFIED:20240524T200321Z
UID:10004655-1719478800-1719507600@fundforthearts.org
SUMMARY:The Falls of the Ohio State Park
DESCRIPTION:Explore 390 million years of history at the Falls of the Ohio State Park in Clarksville\, Indiana. Visit the interpretive center museum\, open daily\, and try a fossil bed hike at 1 pm (weather permitting)! Visit www.fallsoftheohio.org or their Facebook page for more detailed information. \nAge Range: 6 & Up
URL:https://fundforthearts.org/event/the-falls-of-the-ohio-state-park-copy-copy/2024-06-27/
LOCATION:The Falls of the Ohio State Park\, 201 W Riverside Dr.\, Clarksville\, IN\, 47129\, United States
CATEGORIES:Outdoor Activity
ATTACH;FMTTYPE=image/jpeg:https://fundforthearts.org/wp-content/uploads/2024/05/Falls-of-the-Ohio-State-Park.jpg
END:VEVENT
BEGIN:VEVENT
DTSTART;TZID=America/New_York:20240626T090000
DTEND;TZID=America/New_York:20240626T170000
DTSTAMP:20260425T100632
CREATED:20240524T200201Z
LAST-MODIFIED:20240524T200321Z
UID:10004654-1719392400-1719421200@fundforthearts.org
SUMMARY:The Falls of the Ohio State Park
DESCRIPTION:Explore 390 million years of history at the Falls of the Ohio State Park in Clarksville\, Indiana. Visit the interpretive center museum\, open daily\, and try a fossil bed hike at 1 pm (weather permitting)! Visit www.fallsoftheohio.org or their Facebook page for more detailed information. \nAge Range: 6 & Up
URL:https://fundforthearts.org/event/the-falls-of-the-ohio-state-park-copy-copy/2024-06-26/
LOCATION:The Falls of the Ohio State Park\, 201 W Riverside Dr.\, Clarksville\, IN\, 47129\, United States
CATEGORIES:Outdoor Activity
ATTACH;FMTTYPE=image/jpeg:https://fundforthearts.org/wp-content/uploads/2024/05/Falls-of-the-Ohio-State-Park.jpg
END:VEVENT
BEGIN:VEVENT
DTSTART;TZID=America/New_York:20240625T090000
DTEND;TZID=America/New_York:20240625T170000
DTSTAMP:20260425T100632
CREATED:20240524T200201Z
LAST-MODIFIED:20240524T200321Z
UID:10004653-1719306000-1719334800@fundforthearts.org
SUMMARY:The Falls of the Ohio State Park
DESCRIPTION:Explore 390 million years of history at the Falls of the Ohio State Park in Clarksville\, Indiana. Visit the interpretive center museum\, open daily\, and try a fossil bed hike at 1 pm (weather permitting)! Visit www.fallsoftheohio.org or their Facebook page for more detailed information. \nAge Range: 6 & Up
URL:https://fundforthearts.org/event/the-falls-of-the-ohio-state-park-copy-copy/2024-06-25/
LOCATION:The Falls of the Ohio State Park\, 201 W Riverside Dr.\, Clarksville\, IN\, 47129\, United States
CATEGORIES:Outdoor Activity
ATTACH;FMTTYPE=image/jpeg:https://fundforthearts.org/wp-content/uploads/2024/05/Falls-of-the-Ohio-State-Park.jpg
END:VEVENT
BEGIN:VEVENT
DTSTART;TZID=America/New_York:20240624T090000
DTEND;TZID=America/New_York:20240624T170000
DTSTAMP:20260425T100632
CREATED:20240524T200201Z
LAST-MODIFIED:20240524T200321Z
UID:10004652-1719219600-1719248400@fundforthearts.org
SUMMARY:The Falls of the Ohio State Park
DESCRIPTION:Explore 390 million years of history at the Falls of the Ohio State Park in Clarksville\, Indiana. Visit the interpretive center museum\, open daily\, and try a fossil bed hike at 1 pm (weather permitting)! Visit www.fallsoftheohio.org or their Facebook page for more detailed information. \nAge Range: 6 & Up
URL:https://fundforthearts.org/event/the-falls-of-the-ohio-state-park-copy-copy/2024-06-24/
LOCATION:The Falls of the Ohio State Park\, 201 W Riverside Dr.\, Clarksville\, IN\, 47129\, United States
CATEGORIES:Outdoor Activity
ATTACH;FMTTYPE=image/jpeg:https://fundforthearts.org/wp-content/uploads/2024/05/Falls-of-the-Ohio-State-Park.jpg
END:VEVENT
BEGIN:VEVENT
DTSTART;TZID=America/New_York:20240623T090000
DTEND;TZID=America/New_York:20240623T170000
DTSTAMP:20260425T100632
CREATED:20240524T200201Z
LAST-MODIFIED:20240524T200321Z
UID:10004651-1719133200-1719162000@fundforthearts.org
SUMMARY:The Falls of the Ohio State Park
DESCRIPTION:Explore 390 million years of history at the Falls of the Ohio State Park in Clarksville\, Indiana. Visit the interpretive center museum\, open daily\, and try a fossil bed hike at 1 pm (weather permitting)! Visit www.fallsoftheohio.org or their Facebook page for more detailed information. \nAge Range: 6 & Up
URL:https://fundforthearts.org/event/the-falls-of-the-ohio-state-park-copy-copy/2024-06-23/
LOCATION:The Falls of the Ohio State Park\, 201 W Riverside Dr.\, Clarksville\, IN\, 47129\, United States
CATEGORIES:Outdoor Activity
ATTACH;FMTTYPE=image/jpeg:https://fundforthearts.org/wp-content/uploads/2024/05/Falls-of-the-Ohio-State-Park.jpg
END:VEVENT
BEGIN:VEVENT
DTSTART;TZID=America/New_York:20240622T090000
DTEND;TZID=America/New_York:20240622T170000
DTSTAMP:20260425T100632
CREATED:20240524T200201Z
LAST-MODIFIED:20240524T200321Z
UID:10004650-1719046800-1719075600@fundforthearts.org
SUMMARY:The Falls of the Ohio State Park
DESCRIPTION:Explore 390 million years of history at the Falls of the Ohio State Park in Clarksville\, Indiana. Visit the interpretive center museum\, open daily\, and try a fossil bed hike at 1 pm (weather permitting)! Visit www.fallsoftheohio.org or their Facebook page for more detailed information. \nAge Range: 6 & Up
URL:https://fundforthearts.org/event/the-falls-of-the-ohio-state-park-copy-copy/2024-06-22/
LOCATION:The Falls of the Ohio State Park\, 201 W Riverside Dr.\, Clarksville\, IN\, 47129\, United States
CATEGORIES:Outdoor Activity
ATTACH;FMTTYPE=image/jpeg:https://fundforthearts.org/wp-content/uploads/2024/05/Falls-of-the-Ohio-State-Park.jpg
END:VEVENT
BEGIN:VEVENT
DTSTART;TZID=America/New_York:20240621T090000
DTEND;TZID=America/New_York:20240621T170000
DTSTAMP:20260425T100632
CREATED:20240524T200201Z
LAST-MODIFIED:20240524T200321Z
UID:10004649-1718960400-1718989200@fundforthearts.org
SUMMARY:The Falls of the Ohio State Park
DESCRIPTION:Explore 390 million years of history at the Falls of the Ohio State Park in Clarksville\, Indiana. Visit the interpretive center museum\, open daily\, and try a fossil bed hike at 1 pm (weather permitting)! Visit www.fallsoftheohio.org or their Facebook page for more detailed information. \nAge Range: 6 & Up
URL:https://fundforthearts.org/event/the-falls-of-the-ohio-state-park-copy-copy/2024-06-21/
LOCATION:The Falls of the Ohio State Park\, 201 W Riverside Dr.\, Clarksville\, IN\, 47129\, United States
CATEGORIES:Outdoor Activity
ATTACH;FMTTYPE=image/jpeg:https://fundforthearts.org/wp-content/uploads/2024/05/Falls-of-the-Ohio-State-Park.jpg
END:VEVENT
BEGIN:VEVENT
DTSTART;TZID=America/New_York:20240620T090000
DTEND;TZID=America/New_York:20240620T170000
DTSTAMP:20260425T100632
CREATED:20240524T200201Z
LAST-MODIFIED:20240524T200321Z
UID:10004648-1718874000-1718902800@fundforthearts.org
SUMMARY:The Falls of the Ohio State Park
DESCRIPTION:Explore 390 million years of history at the Falls of the Ohio State Park in Clarksville\, Indiana. Visit the interpretive center museum\, open daily\, and try a fossil bed hike at 1 pm (weather permitting)! Visit www.fallsoftheohio.org or their Facebook page for more detailed information. \nAge Range: 6 & Up
URL:https://fundforthearts.org/event/the-falls-of-the-ohio-state-park-copy-copy/2024-06-20/
LOCATION:The Falls of the Ohio State Park\, 201 W Riverside Dr.\, Clarksville\, IN\, 47129\, United States
CATEGORIES:Outdoor Activity
ATTACH;FMTTYPE=image/jpeg:https://fundforthearts.org/wp-content/uploads/2024/05/Falls-of-the-Ohio-State-Park.jpg
END:VEVENT
BEGIN:VEVENT
DTSTART;TZID=America/New_York:20240619T090000
DTEND;TZID=America/New_York:20240619T170000
DTSTAMP:20260425T100632
CREATED:20240524T200201Z
LAST-MODIFIED:20240524T200321Z
UID:10004647-1718787600-1718816400@fundforthearts.org
SUMMARY:The Falls of the Ohio State Park
DESCRIPTION:Explore 390 million years of history at the Falls of the Ohio State Park in Clarksville\, Indiana. Visit the interpretive center museum\, open daily\, and try a fossil bed hike at 1 pm (weather permitting)! Visit www.fallsoftheohio.org or their Facebook page for more detailed information. \nAge Range: 6 & Up
URL:https://fundforthearts.org/event/the-falls-of-the-ohio-state-park-copy-copy/2024-06-19/
LOCATION:The Falls of the Ohio State Park\, 201 W Riverside Dr.\, Clarksville\, IN\, 47129\, United States
CATEGORIES:Outdoor Activity
ATTACH;FMTTYPE=image/jpeg:https://fundforthearts.org/wp-content/uploads/2024/05/Falls-of-the-Ohio-State-Park.jpg
END:VEVENT
BEGIN:VEVENT
DTSTART;TZID=America/New_York:20240618T090000
DTEND;TZID=America/New_York:20240618T170000
DTSTAMP:20260425T100632
CREATED:20240524T200201Z
LAST-MODIFIED:20240524T200321Z
UID:10004646-1718701200-1718730000@fundforthearts.org
SUMMARY:The Falls of the Ohio State Park
DESCRIPTION:Explore 390 million years of history at the Falls of the Ohio State Park in Clarksville\, Indiana. Visit the interpretive center museum\, open daily\, and try a fossil bed hike at 1 pm (weather permitting)! Visit www.fallsoftheohio.org or their Facebook page for more detailed information. \nAge Range: 6 & Up
URL:https://fundforthearts.org/event/the-falls-of-the-ohio-state-park-copy-copy/2024-06-18/
LOCATION:The Falls of the Ohio State Park\, 201 W Riverside Dr.\, Clarksville\, IN\, 47129\, United States
CATEGORIES:Outdoor Activity
ATTACH;FMTTYPE=image/jpeg:https://fundforthearts.org/wp-content/uploads/2024/05/Falls-of-the-Ohio-State-Park.jpg
END:VEVENT
BEGIN:VEVENT
DTSTART;TZID=America/New_York:20240617T090000
DTEND;TZID=America/New_York:20240617T170000
DTSTAMP:20260425T100632
CREATED:20240524T200201Z
LAST-MODIFIED:20240524T200321Z
UID:10004645-1718614800-1718643600@fundforthearts.org
SUMMARY:The Falls of the Ohio State Park
DESCRIPTION:Explore 390 million years of history at the Falls of the Ohio State Park in Clarksville\, Indiana. Visit the interpretive center museum\, open daily\, and try a fossil bed hike at 1 pm (weather permitting)! Visit www.fallsoftheohio.org or their Facebook page for more detailed information. \nAge Range: 6 & Up
URL:https://fundforthearts.org/event/the-falls-of-the-ohio-state-park-copy-copy/2024-06-17/
LOCATION:The Falls of the Ohio State Park\, 201 W Riverside Dr.\, Clarksville\, IN\, 47129\, United States
CATEGORIES:Outdoor Activity
ATTACH;FMTTYPE=image/jpeg:https://fundforthearts.org/wp-content/uploads/2024/05/Falls-of-the-Ohio-State-Park.jpg
END:VEVENT
BEGIN:VEVENT
DTSTART;TZID=America/New_York:20240616T090000
DTEND;TZID=America/New_York:20240616T170000
DTSTAMP:20260425T100632
CREATED:20240524T200201Z
LAST-MODIFIED:20240524T200321Z
UID:10004644-1718528400-1718557200@fundforthearts.org
SUMMARY:The Falls of the Ohio State Park
DESCRIPTION:Explore 390 million years of history at the Falls of the Ohio State Park in Clarksville\, Indiana. Visit the interpretive center museum\, open daily\, and try a fossil bed hike at 1 pm (weather permitting)! Visit www.fallsoftheohio.org or their Facebook page for more detailed information. \nAge Range: 6 & Up
URL:https://fundforthearts.org/event/the-falls-of-the-ohio-state-park-copy-copy/2024-06-16/
LOCATION:The Falls of the Ohio State Park\, 201 W Riverside Dr.\, Clarksville\, IN\, 47129\, United States
CATEGORIES:Outdoor Activity
ATTACH;FMTTYPE=image/jpeg:https://fundforthearts.org/wp-content/uploads/2024/05/Falls-of-the-Ohio-State-Park.jpg
END:VEVENT
BEGIN:VEVENT
DTSTART;TZID=America/New_York:20240615T090000
DTEND;TZID=America/New_York:20240615T170000
DTSTAMP:20260425T100632
CREATED:20240524T200201Z
LAST-MODIFIED:20240524T200321Z
UID:10004643-1718442000-1718470800@fundforthearts.org
SUMMARY:The Falls of the Ohio State Park
DESCRIPTION:Explore 390 million years of history at the Falls of the Ohio State Park in Clarksville\, Indiana. Visit the interpretive center museum\, open daily\, and try a fossil bed hike at 1 pm (weather permitting)! Visit www.fallsoftheohio.org or their Facebook page for more detailed information. \nAge Range: 6 & Up
URL:https://fundforthearts.org/event/the-falls-of-the-ohio-state-park-copy-copy/2024-06-15/
LOCATION:The Falls of the Ohio State Park\, 201 W Riverside Dr.\, Clarksville\, IN\, 47129\, United States
CATEGORIES:Outdoor Activity
ATTACH;FMTTYPE=image/jpeg:https://fundforthearts.org/wp-content/uploads/2024/05/Falls-of-the-Ohio-State-Park.jpg
END:VEVENT
BEGIN:VEVENT
DTSTART;TZID=America/New_York:20240614T090000
DTEND;TZID=America/New_York:20240614T170000
DTSTAMP:20260425T100632
CREATED:20240524T200201Z
LAST-MODIFIED:20240524T200321Z
UID:10004642-1718355600-1718384400@fundforthearts.org
SUMMARY:The Falls of the Ohio State Park
DESCRIPTION:Explore 390 million years of history at the Falls of the Ohio State Park in Clarksville\, Indiana. Visit the interpretive center museum\, open daily\, and try a fossil bed hike at 1 pm (weather permitting)! Visit www.fallsoftheohio.org or their Facebook page for more detailed information. \nAge Range: 6 & Up
URL:https://fundforthearts.org/event/the-falls-of-the-ohio-state-park-copy-copy/2024-06-14/
LOCATION:The Falls of the Ohio State Park\, 201 W Riverside Dr.\, Clarksville\, IN\, 47129\, United States
CATEGORIES:Outdoor Activity
ATTACH;FMTTYPE=image/jpeg:https://fundforthearts.org/wp-content/uploads/2024/05/Falls-of-the-Ohio-State-Park.jpg
END:VEVENT
BEGIN:VEVENT
DTSTART;TZID=America/New_York:20240613T090000
DTEND;TZID=America/New_York:20240613T170000
DTSTAMP:20260425T100632
CREATED:20240524T200201Z
LAST-MODIFIED:20240524T200321Z
UID:10004641-1718269200-1718298000@fundforthearts.org
SUMMARY:The Falls of the Ohio State Park
DESCRIPTION:Explore 390 million years of history at the Falls of the Ohio State Park in Clarksville\, Indiana. Visit the interpretive center museum\, open daily\, and try a fossil bed hike at 1 pm (weather permitting)! Visit www.fallsoftheohio.org or their Facebook page for more detailed information. \nAge Range: 6 & Up
URL:https://fundforthearts.org/event/the-falls-of-the-ohio-state-park-copy-copy/2024-06-13/
LOCATION:The Falls of the Ohio State Park\, 201 W Riverside Dr.\, Clarksville\, IN\, 47129\, United States
CATEGORIES:Outdoor Activity
ATTACH;FMTTYPE=image/jpeg:https://fundforthearts.org/wp-content/uploads/2024/05/Falls-of-the-Ohio-State-Park.jpg
END:VEVENT
BEGIN:VEVENT
DTSTART;TZID=America/New_York:20240612T090000
DTEND;TZID=America/New_York:20240612T170000
DTSTAMP:20260425T100632
CREATED:20240524T200201Z
LAST-MODIFIED:20240524T200321Z
UID:10004640-1718182800-1718211600@fundforthearts.org
SUMMARY:The Falls of the Ohio State Park
DESCRIPTION:Explore 390 million years of history at the Falls of the Ohio State Park in Clarksville\, Indiana. Visit the interpretive center museum\, open daily\, and try a fossil bed hike at 1 pm (weather permitting)! Visit www.fallsoftheohio.org or their Facebook page for more detailed information. \nAge Range: 6 & Up
URL:https://fundforthearts.org/event/the-falls-of-the-ohio-state-park-copy-copy/2024-06-12/
LOCATION:The Falls of the Ohio State Park\, 201 W Riverside Dr.\, Clarksville\, IN\, 47129\, United States
CATEGORIES:Outdoor Activity
ATTACH;FMTTYPE=image/jpeg:https://fundforthearts.org/wp-content/uploads/2024/05/Falls-of-the-Ohio-State-Park.jpg
END:VEVENT
BEGIN:VEVENT
DTSTART;TZID=America/New_York:20240611T090000
DTEND;TZID=America/New_York:20240611T170000
DTSTAMP:20260425T100632
CREATED:20240524T200201Z
LAST-MODIFIED:20240524T200321Z
UID:10004639-1718096400-1718125200@fundforthearts.org
SUMMARY:The Falls of the Ohio State Park
DESCRIPTION:Explore 390 million years of history at the Falls of the Ohio State Park in Clarksville\, Indiana. Visit the interpretive center museum\, open daily\, and try a fossil bed hike at 1 pm (weather permitting)! Visit www.fallsoftheohio.org or their Facebook page for more detailed information. \nAge Range: 6 & Up
URL:https://fundforthearts.org/event/the-falls-of-the-ohio-state-park-copy-copy/2024-06-11/
LOCATION:The Falls of the Ohio State Park\, 201 W Riverside Dr.\, Clarksville\, IN\, 47129\, United States
CATEGORIES:Outdoor Activity
ATTACH;FMTTYPE=image/jpeg:https://fundforthearts.org/wp-content/uploads/2024/05/Falls-of-the-Ohio-State-Park.jpg
END:VEVENT
BEGIN:VEVENT
DTSTART;TZID=America/New_York:20240610T090000
DTEND;TZID=America/New_York:20240610T170000
DTSTAMP:20260425T100632
CREATED:20240524T200201Z
LAST-MODIFIED:20240524T200321Z
UID:10004638-1718010000-1718038800@fundforthearts.org
SUMMARY:The Falls of the Ohio State Park
DESCRIPTION:Explore 390 million years of history at the Falls of the Ohio State Park in Clarksville\, Indiana. Visit the interpretive center museum\, open daily\, and try a fossil bed hike at 1 pm (weather permitting)! Visit www.fallsoftheohio.org or their Facebook page for more detailed information. \nAge Range: 6 & Up
URL:https://fundforthearts.org/event/the-falls-of-the-ohio-state-park-copy-copy/2024-06-10/
LOCATION:The Falls of the Ohio State Park\, 201 W Riverside Dr.\, Clarksville\, IN\, 47129\, United States
CATEGORIES:Outdoor Activity
ATTACH;FMTTYPE=image/jpeg:https://fundforthearts.org/wp-content/uploads/2024/05/Falls-of-the-Ohio-State-Park.jpg
END:VEVENT
BEGIN:VEVENT
DTSTART;TZID=America/New_York:20240609T090000
DTEND;TZID=America/New_York:20240609T170000
DTSTAMP:20260425T100632
CREATED:20240524T200201Z
LAST-MODIFIED:20240524T200321Z
UID:10004637-1717923600-1717952400@fundforthearts.org
SUMMARY:The Falls of the Ohio State Park
DESCRIPTION:Explore 390 million years of history at the Falls of the Ohio State Park in Clarksville\, Indiana. Visit the interpretive center museum\, open daily\, and try a fossil bed hike at 1 pm (weather permitting)! Visit www.fallsoftheohio.org or their Facebook page for more detailed information. \nAge Range: 6 & Up
URL:https://fundforthearts.org/event/the-falls-of-the-ohio-state-park-copy-copy/2024-06-09/
LOCATION:The Falls of the Ohio State Park\, 201 W Riverside Dr.\, Clarksville\, IN\, 47129\, United States
CATEGORIES:Outdoor Activity
ATTACH;FMTTYPE=image/jpeg:https://fundforthearts.org/wp-content/uploads/2024/05/Falls-of-the-Ohio-State-Park.jpg
END:VEVENT
BEGIN:VEVENT
DTSTART;TZID=America/New_York:20240608T090000
DTEND;TZID=America/New_York:20240608T170000
DTSTAMP:20260425T100633
CREATED:20240524T200201Z
LAST-MODIFIED:20240524T200321Z
UID:10004636-1717837200-1717866000@fundforthearts.org
SUMMARY:The Falls of the Ohio State Park
DESCRIPTION:Explore 390 million years of history at the Falls of the Ohio State Park in Clarksville\, Indiana. Visit the interpretive center museum\, open daily\, and try a fossil bed hike at 1 pm (weather permitting)! Visit www.fallsoftheohio.org or their Facebook page for more detailed information. \nAge Range: 6 & Up
URL:https://fundforthearts.org/event/the-falls-of-the-ohio-state-park-copy-copy/2024-06-08/
LOCATION:The Falls of the Ohio State Park\, 201 W Riverside Dr.\, Clarksville\, IN\, 47129\, United States
CATEGORIES:Outdoor Activity
ATTACH;FMTTYPE=image/jpeg:https://fundforthearts.org/wp-content/uploads/2024/05/Falls-of-the-Ohio-State-Park.jpg
END:VEVENT
BEGIN:VEVENT
DTSTART;TZID=America/New_York:20240607T090000
DTEND;TZID=America/New_York:20240607T170000
DTSTAMP:20260425T100633
CREATED:20240524T200201Z
LAST-MODIFIED:20240524T200321Z
UID:10004635-1717750800-1717779600@fundforthearts.org
SUMMARY:The Falls of the Ohio State Park
DESCRIPTION:Explore 390 million years of history at the Falls of the Ohio State Park in Clarksville\, Indiana. Visit the interpretive center museum\, open daily\, and try a fossil bed hike at 1 pm (weather permitting)! Visit www.fallsoftheohio.org or their Facebook page for more detailed information. \nAge Range: 6 & Up
URL:https://fundforthearts.org/event/the-falls-of-the-ohio-state-park-copy-copy/2024-06-07/
LOCATION:The Falls of the Ohio State Park\, 201 W Riverside Dr.\, Clarksville\, IN\, 47129\, United States
CATEGORIES:Outdoor Activity
ATTACH;FMTTYPE=image/jpeg:https://fundforthearts.org/wp-content/uploads/2024/05/Falls-of-the-Ohio-State-Park.jpg
END:VEVENT
BEGIN:VEVENT
DTSTART;TZID=America/New_York:20240606T090000
DTEND;TZID=America/New_York:20240606T170000
DTSTAMP:20260425T100633
CREATED:20240524T200201Z
LAST-MODIFIED:20240524T200321Z
UID:10004634-1717664400-1717693200@fundforthearts.org
SUMMARY:The Falls of the Ohio State Park
DESCRIPTION:Explore 390 million years of history at the Falls of the Ohio State Park in Clarksville\, Indiana. Visit the interpretive center museum\, open daily\, and try a fossil bed hike at 1 pm (weather permitting)! Visit www.fallsoftheohio.org or their Facebook page for more detailed information. \nAge Range: 6 & Up
URL:https://fundforthearts.org/event/the-falls-of-the-ohio-state-park-copy-copy/2024-06-06/
LOCATION:The Falls of the Ohio State Park\, 201 W Riverside Dr.\, Clarksville\, IN\, 47129\, United States
CATEGORIES:Outdoor Activity
ATTACH;FMTTYPE=image/jpeg:https://fundforthearts.org/wp-content/uploads/2024/05/Falls-of-the-Ohio-State-Park.jpg
END:VEVENT
END:VCALENDAR