BEGIN:VCALENDAR
VERSION:2.0
PRODID:-//Fund for the Arts - ECPv6.15.20//NONSGML v1.0//EN
CALSCALE:GREGORIAN
METHOD:PUBLISH
X-WR-CALNAME:Fund for the Arts
X-ORIGINAL-URL:https://fundforthearts.org
X-WR-CALDESC:Events for Fund for the Arts
REFRESH-INTERVAL;VALUE=DURATION:PT1H
X-Robots-Tag:noindex
X-PUBLISHED-TTL:PT1H
BEGIN:VTIMEZONE
TZID:America/New_York
BEGIN:DAYLIGHT
TZOFFSETFROM:-0500
TZOFFSETTO:-0400
TZNAME:EDT
DTSTART:20230312T070000
END:DAYLIGHT
BEGIN:STANDARD
TZOFFSETFROM:-0400
TZOFFSETTO:-0500
TZNAME:EST
DTSTART:20231105T060000
END:STANDARD
BEGIN:DAYLIGHT
TZOFFSETFROM:-0500
TZOFFSETTO:-0400
TZNAME:EDT
DTSTART:20240310T070000
END:DAYLIGHT
BEGIN:STANDARD
TZOFFSETFROM:-0400
TZOFFSETTO:-0500
TZNAME:EST
DTSTART:20241103T060000
END:STANDARD
BEGIN:DAYLIGHT
TZOFFSETFROM:-0500
TZOFFSETTO:-0400
TZNAME:EDT
DTSTART:20250309T070000
END:DAYLIGHT
BEGIN:STANDARD
TZOFFSETFROM:-0400
TZOFFSETTO:-0500
TZNAME:EST
DTSTART:20251102T060000
END:STANDARD
END:VTIMEZONE
BEGIN:VEVENT
DTSTART;TZID=America/New_York:20240623T100000
DTEND;TZID=America/New_York:20240623T170000
DTSTAMP:20260420T111525
CREATED:20240531T172504Z
LAST-MODIFIED:20240531T173328Z
UID:10005046-1719136800-1719162000@fundforthearts.org
SUMMARY:KMAC Museum
DESCRIPTION:Visit KMAC Museum’s summer exhibition\, museum shop and cafe\, and Studio 715 where you can practice your own creativity! You will see three floors of the new exhibition\, “The Summer of Games\,” showcasing art that celebrates and comments on athleticism and play. Hands-on activities can be found in two interpretive areas and a gallery guide with activities will be available for all visitors. \nAge Range: All Ages
URL:https://fundforthearts.org/event/kmac-museum-copy/2024-06-23/
LOCATION:KMAC Museum\, 715 W Main St.\, Louisville\, KY\, 40202\, United States
CATEGORIES:Art Gallery/Studio,Museum or Historic Home
ATTACH;FMTTYPE=image/jpeg:https://fundforthearts.org/wp-content/uploads/2023/06/KMAC.jpg
END:VEVENT
BEGIN:VEVENT
DTSTART;TZID=America/New_York:20240622T100000
DTEND;TZID=America/New_York:20240622T170000
DTSTAMP:20260420T111525
CREATED:20240531T172504Z
LAST-MODIFIED:20240531T173328Z
UID:10005045-1719050400-1719075600@fundforthearts.org
SUMMARY:KMAC Museum
DESCRIPTION:Visit KMAC Museum’s summer exhibition\, museum shop and cafe\, and Studio 715 where you can practice your own creativity! You will see three floors of the new exhibition\, “The Summer of Games\,” showcasing art that celebrates and comments on athleticism and play. Hands-on activities can be found in two interpretive areas and a gallery guide with activities will be available for all visitors. \nAge Range: All Ages
URL:https://fundforthearts.org/event/kmac-museum-copy/2024-06-22/
LOCATION:KMAC Museum\, 715 W Main St.\, Louisville\, KY\, 40202\, United States
CATEGORIES:Art Gallery/Studio,Museum or Historic Home
ATTACH;FMTTYPE=image/jpeg:https://fundforthearts.org/wp-content/uploads/2023/06/KMAC.jpg
END:VEVENT
BEGIN:VEVENT
DTSTART;TZID=America/New_York:20240621T100000
DTEND;TZID=America/New_York:20240621T170000
DTSTAMP:20260420T111525
CREATED:20240531T172504Z
LAST-MODIFIED:20240531T173328Z
UID:10005044-1718964000-1718989200@fundforthearts.org
SUMMARY:KMAC Museum
DESCRIPTION:Visit KMAC Museum’s summer exhibition\, museum shop and cafe\, and Studio 715 where you can practice your own creativity! You will see three floors of the new exhibition\, “The Summer of Games\,” showcasing art that celebrates and comments on athleticism and play. Hands-on activities can be found in two interpretive areas and a gallery guide with activities will be available for all visitors. \nAge Range: All Ages
URL:https://fundforthearts.org/event/kmac-museum-copy/2024-06-21/
LOCATION:KMAC Museum\, 715 W Main St.\, Louisville\, KY\, 40202\, United States
CATEGORIES:Art Gallery/Studio,Museum or Historic Home
ATTACH;FMTTYPE=image/jpeg:https://fundforthearts.org/wp-content/uploads/2023/06/KMAC.jpg
END:VEVENT
BEGIN:VEVENT
DTSTART;TZID=America/New_York:20240620T100000
DTEND;TZID=America/New_York:20240620T170000
DTSTAMP:20260420T111525
CREATED:20240531T172504Z
LAST-MODIFIED:20240531T173328Z
UID:10005073-1718877600-1718902800@fundforthearts.org
SUMMARY:KMAC Museum
DESCRIPTION:Visit KMAC Museum’s summer exhibition\, museum shop and cafe\, and Studio 715 where you can practice your own creativity! You will see three floors of the new exhibition\, “The Summer of Games\,” showcasing art that celebrates and comments on athleticism and play. Hands-on activities can be found in two interpretive areas and a gallery guide with activities will be available for all visitors. \nAge Range: All Ages
URL:https://fundforthearts.org/event/kmac-museum-copy/2024-06-20/
LOCATION:KMAC Museum\, 715 W Main St.\, Louisville\, KY\, 40202\, United States
CATEGORIES:Art Gallery/Studio,Museum or Historic Home
ATTACH;FMTTYPE=image/jpeg:https://fundforthearts.org/wp-content/uploads/2023/06/KMAC.jpg
END:VEVENT
BEGIN:VEVENT
DTSTART;TZID=America/New_York:20240619T100000
DTEND;TZID=America/New_York:20240619T170000
DTSTAMP:20260420T111525
CREATED:20240531T172504Z
LAST-MODIFIED:20240531T173328Z
UID:10005043-1718791200-1718816400@fundforthearts.org
SUMMARY:KMAC Museum
DESCRIPTION:Visit KMAC Museum’s summer exhibition\, museum shop and cafe\, and Studio 715 where you can practice your own creativity! You will see three floors of the new exhibition\, “The Summer of Games\,” showcasing art that celebrates and comments on athleticism and play. Hands-on activities can be found in two interpretive areas and a gallery guide with activities will be available for all visitors. \nAge Range: All Ages
URL:https://fundforthearts.org/event/kmac-museum-copy/2024-06-19/
LOCATION:KMAC Museum\, 715 W Main St.\, Louisville\, KY\, 40202\, United States
CATEGORIES:Art Gallery/Studio,Museum or Historic Home
ATTACH;FMTTYPE=image/jpeg:https://fundforthearts.org/wp-content/uploads/2023/06/KMAC.jpg
END:VEVENT
BEGIN:VEVENT
DTSTART;TZID=America/New_York:20240616T100000
DTEND;TZID=America/New_York:20240616T170000
DTSTAMP:20260420T111525
CREATED:20240531T172504Z
LAST-MODIFIED:20240531T173328Z
UID:10005042-1718532000-1718557200@fundforthearts.org
SUMMARY:KMAC Museum
DESCRIPTION:Visit KMAC Museum’s summer exhibition\, museum shop and cafe\, and Studio 715 where you can practice your own creativity! You will see three floors of the new exhibition\, “The Summer of Games\,” showcasing art that celebrates and comments on athleticism and play. Hands-on activities can be found in two interpretive areas and a gallery guide with activities will be available for all visitors. \nAge Range: All Ages
URL:https://fundforthearts.org/event/kmac-museum-copy/2024-06-16/
LOCATION:KMAC Museum\, 715 W Main St.\, Louisville\, KY\, 40202\, United States
CATEGORIES:Art Gallery/Studio,Museum or Historic Home
ATTACH;FMTTYPE=image/jpeg:https://fundforthearts.org/wp-content/uploads/2023/06/KMAC.jpg
END:VEVENT
BEGIN:VEVENT
DTSTART;TZID=America/New_York:20240615T100000
DTEND;TZID=America/New_York:20240615T170000
DTSTAMP:20260420T111525
CREATED:20240531T172504Z
LAST-MODIFIED:20240531T173328Z
UID:10005041-1718445600-1718470800@fundforthearts.org
SUMMARY:KMAC Museum
DESCRIPTION:Visit KMAC Museum’s summer exhibition\, museum shop and cafe\, and Studio 715 where you can practice your own creativity! You will see three floors of the new exhibition\, “The Summer of Games\,” showcasing art that celebrates and comments on athleticism and play. Hands-on activities can be found in two interpretive areas and a gallery guide with activities will be available for all visitors. \nAge Range: All Ages
URL:https://fundforthearts.org/event/kmac-museum-copy/2024-06-15/
LOCATION:KMAC Museum\, 715 W Main St.\, Louisville\, KY\, 40202\, United States
CATEGORIES:Art Gallery/Studio,Museum or Historic Home
ATTACH;FMTTYPE=image/jpeg:https://fundforthearts.org/wp-content/uploads/2023/06/KMAC.jpg
END:VEVENT
BEGIN:VEVENT
DTSTART;TZID=America/New_York:20240614T100000
DTEND;TZID=America/New_York:20240614T170000
DTSTAMP:20260420T111525
CREATED:20240531T172504Z
LAST-MODIFIED:20240531T173328Z
UID:10005040-1718359200-1718384400@fundforthearts.org
SUMMARY:KMAC Museum
DESCRIPTION:Visit KMAC Museum’s summer exhibition\, museum shop and cafe\, and Studio 715 where you can practice your own creativity! You will see three floors of the new exhibition\, “The Summer of Games\,” showcasing art that celebrates and comments on athleticism and play. Hands-on activities can be found in two interpretive areas and a gallery guide with activities will be available for all visitors. \nAge Range: All Ages
URL:https://fundforthearts.org/event/kmac-museum-copy/2024-06-14/
LOCATION:KMAC Museum\, 715 W Main St.\, Louisville\, KY\, 40202\, United States
CATEGORIES:Art Gallery/Studio,Museum or Historic Home
ATTACH;FMTTYPE=image/jpeg:https://fundforthearts.org/wp-content/uploads/2023/06/KMAC.jpg
END:VEVENT
BEGIN:VEVENT
DTSTART;TZID=America/New_York:20240613T100000
DTEND;TZID=America/New_York:20240613T170000
DTSTAMP:20260420T111525
CREATED:20240531T172504Z
LAST-MODIFIED:20240531T173328Z
UID:10005072-1718272800-1718298000@fundforthearts.org
SUMMARY:KMAC Museum
DESCRIPTION:Visit KMAC Museum’s summer exhibition\, museum shop and cafe\, and Studio 715 where you can practice your own creativity! You will see three floors of the new exhibition\, “The Summer of Games\,” showcasing art that celebrates and comments on athleticism and play. Hands-on activities can be found in two interpretive areas and a gallery guide with activities will be available for all visitors. \nAge Range: All Ages
URL:https://fundforthearts.org/event/kmac-museum-copy/2024-06-13/
LOCATION:KMAC Museum\, 715 W Main St.\, Louisville\, KY\, 40202\, United States
CATEGORIES:Art Gallery/Studio,Museum or Historic Home
ATTACH;FMTTYPE=image/jpeg:https://fundforthearts.org/wp-content/uploads/2023/06/KMAC.jpg
END:VEVENT
BEGIN:VEVENT
DTSTART;TZID=America/New_York:20240612T100000
DTEND;TZID=America/New_York:20240612T170000
DTSTAMP:20260420T111525
CREATED:20240531T172504Z
LAST-MODIFIED:20240531T173328Z
UID:10005039-1718186400-1718211600@fundforthearts.org
SUMMARY:KMAC Museum
DESCRIPTION:Visit KMAC Museum’s summer exhibition\, museum shop and cafe\, and Studio 715 where you can practice your own creativity! You will see three floors of the new exhibition\, “The Summer of Games\,” showcasing art that celebrates and comments on athleticism and play. Hands-on activities can be found in two interpretive areas and a gallery guide with activities will be available for all visitors. \nAge Range: All Ages
URL:https://fundforthearts.org/event/kmac-museum-copy/2024-06-12/
LOCATION:KMAC Museum\, 715 W Main St.\, Louisville\, KY\, 40202\, United States
CATEGORIES:Art Gallery/Studio,Museum or Historic Home
ATTACH;FMTTYPE=image/jpeg:https://fundforthearts.org/wp-content/uploads/2023/06/KMAC.jpg
END:VEVENT
BEGIN:VEVENT
DTSTART;TZID=America/New_York:20240609T100000
DTEND;TZID=America/New_York:20240609T170000
DTSTAMP:20260420T111525
CREATED:20240531T172504Z
LAST-MODIFIED:20240531T173328Z
UID:10005038-1717927200-1717952400@fundforthearts.org
SUMMARY:KMAC Museum
DESCRIPTION:Visit KMAC Museum’s summer exhibition\, museum shop and cafe\, and Studio 715 where you can practice your own creativity! You will see three floors of the new exhibition\, “The Summer of Games\,” showcasing art that celebrates and comments on athleticism and play. Hands-on activities can be found in two interpretive areas and a gallery guide with activities will be available for all visitors. \nAge Range: All Ages
URL:https://fundforthearts.org/event/kmac-museum-copy/2024-06-09/
LOCATION:KMAC Museum\, 715 W Main St.\, Louisville\, KY\, 40202\, United States
CATEGORIES:Art Gallery/Studio,Museum or Historic Home
ATTACH;FMTTYPE=image/jpeg:https://fundforthearts.org/wp-content/uploads/2023/06/KMAC.jpg
END:VEVENT
BEGIN:VEVENT
DTSTART;TZID=America/New_York:20240608T100000
DTEND;TZID=America/New_York:20240608T170000
DTSTAMP:20260420T111525
CREATED:20240531T172504Z
LAST-MODIFIED:20240531T173328Z
UID:10005037-1717840800-1717866000@fundforthearts.org
SUMMARY:KMAC Museum
DESCRIPTION:Visit KMAC Museum’s summer exhibition\, museum shop and cafe\, and Studio 715 where you can practice your own creativity! You will see three floors of the new exhibition\, “The Summer of Games\,” showcasing art that celebrates and comments on athleticism and play. Hands-on activities can be found in two interpretive areas and a gallery guide with activities will be available for all visitors. \nAge Range: All Ages
URL:https://fundforthearts.org/event/kmac-museum-copy/2024-06-08/
LOCATION:KMAC Museum\, 715 W Main St.\, Louisville\, KY\, 40202\, United States
CATEGORIES:Art Gallery/Studio,Museum or Historic Home
ATTACH;FMTTYPE=image/jpeg:https://fundforthearts.org/wp-content/uploads/2023/06/KMAC.jpg
END:VEVENT
BEGIN:VEVENT
DTSTART;TZID=America/New_York:20240607T100000
DTEND;TZID=America/New_York:20240607T170000
DTSTAMP:20260420T111525
CREATED:20240531T172504Z
LAST-MODIFIED:20240531T173328Z
UID:10005036-1717754400-1717779600@fundforthearts.org
SUMMARY:KMAC Museum
DESCRIPTION:Visit KMAC Museum’s summer exhibition\, museum shop and cafe\, and Studio 715 where you can practice your own creativity! You will see three floors of the new exhibition\, “The Summer of Games\,” showcasing art that celebrates and comments on athleticism and play. Hands-on activities can be found in two interpretive areas and a gallery guide with activities will be available for all visitors. \nAge Range: All Ages
URL:https://fundforthearts.org/event/kmac-museum-copy/2024-06-07/
LOCATION:KMAC Museum\, 715 W Main St.\, Louisville\, KY\, 40202\, United States
CATEGORIES:Art Gallery/Studio,Museum or Historic Home
ATTACH;FMTTYPE=image/jpeg:https://fundforthearts.org/wp-content/uploads/2023/06/KMAC.jpg
END:VEVENT
BEGIN:VEVENT
DTSTART;TZID=America/New_York:20240606T100000
DTEND;TZID=America/New_York:20240606T170000
DTSTAMP:20260420T111525
CREATED:20240531T172504Z
LAST-MODIFIED:20240531T173328Z
UID:10005071-1717668000-1717693200@fundforthearts.org
SUMMARY:KMAC Museum
DESCRIPTION:Visit KMAC Museum’s summer exhibition\, museum shop and cafe\, and Studio 715 where you can practice your own creativity! You will see three floors of the new exhibition\, “The Summer of Games\,” showcasing art that celebrates and comments on athleticism and play. Hands-on activities can be found in two interpretive areas and a gallery guide with activities will be available for all visitors. \nAge Range: All Ages
URL:https://fundforthearts.org/event/kmac-museum-copy/2024-06-06/
LOCATION:KMAC Museum\, 715 W Main St.\, Louisville\, KY\, 40202\, United States
CATEGORIES:Art Gallery/Studio,Museum or Historic Home
ATTACH;FMTTYPE=image/jpeg:https://fundforthearts.org/wp-content/uploads/2023/06/KMAC.jpg
END:VEVENT
BEGIN:VEVENT
DTSTART;TZID=America/New_York:20240605T100000
DTEND;TZID=America/New_York:20240605T170000
DTSTAMP:20260420T111525
CREATED:20240531T172504Z
LAST-MODIFIED:20240531T173328Z
UID:10005035-1717581600-1717606800@fundforthearts.org
SUMMARY:KMAC Museum
DESCRIPTION:Visit KMAC Museum’s summer exhibition\, museum shop and cafe\, and Studio 715 where you can practice your own creativity! You will see three floors of the new exhibition\, “The Summer of Games\,” showcasing art that celebrates and comments on athleticism and play. Hands-on activities can be found in two interpretive areas and a gallery guide with activities will be available for all visitors. \nAge Range: All Ages
URL:https://fundforthearts.org/event/kmac-museum-copy/2024-06-05/
LOCATION:KMAC Museum\, 715 W Main St.\, Louisville\, KY\, 40202\, United States
CATEGORIES:Art Gallery/Studio,Museum or Historic Home
ATTACH;FMTTYPE=image/jpeg:https://fundforthearts.org/wp-content/uploads/2023/06/KMAC.jpg
END:VEVENT
BEGIN:VEVENT
DTSTART;TZID=America/New_York:20240602T100000
DTEND;TZID=America/New_York:20240602T170000
DTSTAMP:20260420T111525
CREATED:20240531T172504Z
LAST-MODIFIED:20240531T173328Z
UID:10005034-1717322400-1717347600@fundforthearts.org
SUMMARY:KMAC Museum
DESCRIPTION:Visit KMAC Museum’s summer exhibition\, museum shop and cafe\, and Studio 715 where you can practice your own creativity! You will see three floors of the new exhibition\, “The Summer of Games\,” showcasing art that celebrates and comments on athleticism and play. Hands-on activities can be found in two interpretive areas and a gallery guide with activities will be available for all visitors. \nAge Range: All Ages
URL:https://fundforthearts.org/event/kmac-museum-copy/2024-06-02/
LOCATION:KMAC Museum\, 715 W Main St.\, Louisville\, KY\, 40202\, United States
CATEGORIES:Art Gallery/Studio,Museum or Historic Home
ATTACH;FMTTYPE=image/jpeg:https://fundforthearts.org/wp-content/uploads/2023/06/KMAC.jpg
END:VEVENT
BEGIN:VEVENT
DTSTART;TZID=America/New_York:20240601T100000
DTEND;TZID=America/New_York:20240601T170000
DTSTAMP:20260420T111525
CREATED:20240531T172504Z
LAST-MODIFIED:20240531T173328Z
UID:10005033-1717236000-1717261200@fundforthearts.org
SUMMARY:KMAC Museum
DESCRIPTION:Visit KMAC Museum’s summer exhibition\, museum shop and cafe\, and Studio 715 where you can practice your own creativity! You will see three floors of the new exhibition\, “The Summer of Games\,” showcasing art that celebrates and comments on athleticism and play. Hands-on activities can be found in two interpretive areas and a gallery guide with activities will be available for all visitors. \nAge Range: All Ages
URL:https://fundforthearts.org/event/kmac-museum-copy/2024-06-01/
LOCATION:KMAC Museum\, 715 W Main St.\, Louisville\, KY\, 40202\, United States
CATEGORIES:Art Gallery/Studio,Museum or Historic Home
ATTACH;FMTTYPE=image/jpeg:https://fundforthearts.org/wp-content/uploads/2023/06/KMAC.jpg
END:VEVENT
END:VCALENDAR