BEGIN:VCALENDAR
VERSION:2.0
PRODID:-//Fund for the Arts - ECPv6.15.20//NONSGML v1.0//EN
CALSCALE:GREGORIAN
METHOD:PUBLISH
X-ORIGINAL-URL:https://fundforthearts.org
X-WR-CALDESC:Events for Fund for the Arts
REFRESH-INTERVAL;VALUE=DURATION:PT1H
X-Robots-Tag:noindex
X-PUBLISHED-TTL:PT1H
BEGIN:VTIMEZONE
TZID:America/New_York
BEGIN:DAYLIGHT
TZOFFSETFROM:-0500
TZOFFSETTO:-0400
TZNAME:EDT
DTSTART:20230312T070000
END:DAYLIGHT
BEGIN:STANDARD
TZOFFSETFROM:-0400
TZOFFSETTO:-0500
TZNAME:EST
DTSTART:20231105T060000
END:STANDARD
BEGIN:DAYLIGHT
TZOFFSETFROM:-0500
TZOFFSETTO:-0400
TZNAME:EDT
DTSTART:20240310T070000
END:DAYLIGHT
BEGIN:STANDARD
TZOFFSETFROM:-0400
TZOFFSETTO:-0500
TZNAME:EST
DTSTART:20241103T060000
END:STANDARD
BEGIN:DAYLIGHT
TZOFFSETFROM:-0500
TZOFFSETTO:-0400
TZNAME:EDT
DTSTART:20250309T070000
END:DAYLIGHT
BEGIN:STANDARD
TZOFFSETFROM:-0400
TZOFFSETTO:-0500
TZNAME:EST
DTSTART:20251102T060000
END:STANDARD
END:VTIMEZONE
BEGIN:VEVENT
DTSTART;TZID=America/New_York:20240804T130000
DTEND;TZID=America/New_York:20240804T160000
DTSTAMP:20260421T133449
CREATED:20240524T200059Z
LAST-MODIFIED:20240524T200147Z
UID:10004628-1722776400-1722787200@fundforthearts.org
SUMMARY:Culbertson Mansion State Historic Site
DESCRIPTION:See the Victorian grandeur of the home that once belonged to businessman and philanthropist William Culbertson. Learn about 19th century life in New Albany. The three-story mansion contains 25 rooms spread over multiple floors. There are many stairs\, but the views are worth the climb! Tours are self-guided and begin at the mansion’s front door at times indicated. This activity is recommended for elementary age and up. 
URL:https://fundforthearts.org/event/culbertson-mansion-state-historic-site-copy-copy-copy-copy/2024-08-04/
LOCATION:Culbertson Mansion State Historic Site\, 914 E Main St\, New Albany\, IN\, 47150\, United States
CATEGORIES:Museum or Historic Home
ATTACH;FMTTYPE=image/jpeg:https://fundforthearts.org/wp-content/uploads/2023/06/Culbertson-Mansion-State-Historic-Site.jpg
END:VEVENT
BEGIN:VEVENT
DTSTART;TZID=America/New_York:20240731T100000
DTEND;TZID=America/New_York:20240731T160000
DTSTAMP:20260421T133449
CREATED:20240524T195919Z
LAST-MODIFIED:20240524T200050Z
UID:10004618-1722420000-1722441600@fundforthearts.org
SUMMARY:Culbertson Mansion State Historic Site
DESCRIPTION:See the Victorian grandeur of the home that once belonged to businessman and philanthropist William Culbertson. Learn about 19th century life in New Albany. The three-story mansion contains 25 rooms spread over multiple floors. There are many stairs\, but the views are worth the climb! Tours are self-guided and begin at the mansion’s front door at times indicated. This activity is recommended for elementary age and up. 
URL:https://fundforthearts.org/event/culbertson-mansion-state-historic-site-copy-copy-copy/2024-07-31/
LOCATION:Culbertson Mansion State Historic Site\, 914 E Main St\, New Albany\, IN\, 47150\, United States
CATEGORIES:Museum or Historic Home
ATTACH;FMTTYPE=image/jpeg:https://fundforthearts.org/wp-content/uploads/2023/06/Culbertson-Mansion-State-Historic-Site.jpg
END:VEVENT
BEGIN:VEVENT
DTSTART;TZID=America/New_York:20240728T130000
DTEND;TZID=America/New_York:20240728T160000
DTSTAMP:20260421T133449
CREATED:20240524T200059Z
LAST-MODIFIED:20240524T200147Z
UID:10004627-1722171600-1722182400@fundforthearts.org
SUMMARY:Culbertson Mansion State Historic Site
DESCRIPTION:See the Victorian grandeur of the home that once belonged to businessman and philanthropist William Culbertson. Learn about 19th century life in New Albany. The three-story mansion contains 25 rooms spread over multiple floors. There are many stairs\, but the views are worth the climb! Tours are self-guided and begin at the mansion’s front door at times indicated. This activity is recommended for elementary age and up. 
URL:https://fundforthearts.org/event/culbertson-mansion-state-historic-site-copy-copy-copy-copy/2024-07-28/
LOCATION:Culbertson Mansion State Historic Site\, 914 E Main St\, New Albany\, IN\, 47150\, United States
CATEGORIES:Museum or Historic Home
ATTACH;FMTTYPE=image/jpeg:https://fundforthearts.org/wp-content/uploads/2023/06/Culbertson-Mansion-State-Historic-Site.jpg
END:VEVENT
BEGIN:VEVENT
DTSTART;TZID=America/New_York:20240724T100000
DTEND;TZID=America/New_York:20240724T160000
DTSTAMP:20260421T133449
CREATED:20240524T195919Z
LAST-MODIFIED:20240524T200050Z
UID:10004617-1721815200-1721836800@fundforthearts.org
SUMMARY:Culbertson Mansion State Historic Site
DESCRIPTION:See the Victorian grandeur of the home that once belonged to businessman and philanthropist William Culbertson. Learn about 19th century life in New Albany. The three-story mansion contains 25 rooms spread over multiple floors. There are many stairs\, but the views are worth the climb! Tours are self-guided and begin at the mansion’s front door at times indicated. This activity is recommended for elementary age and up. 
URL:https://fundforthearts.org/event/culbertson-mansion-state-historic-site-copy-copy-copy/2024-07-24/
LOCATION:Culbertson Mansion State Historic Site\, 914 E Main St\, New Albany\, IN\, 47150\, United States
CATEGORIES:Museum or Historic Home
ATTACH;FMTTYPE=image/jpeg:https://fundforthearts.org/wp-content/uploads/2023/06/Culbertson-Mansion-State-Historic-Site.jpg
END:VEVENT
BEGIN:VEVENT
DTSTART;TZID=America/New_York:20240721T130000
DTEND;TZID=America/New_York:20240721T160000
DTSTAMP:20260421T133449
CREATED:20240524T200059Z
LAST-MODIFIED:20240524T200147Z
UID:10004626-1721566800-1721577600@fundforthearts.org
SUMMARY:Culbertson Mansion State Historic Site
DESCRIPTION:See the Victorian grandeur of the home that once belonged to businessman and philanthropist William Culbertson. Learn about 19th century life in New Albany. The three-story mansion contains 25 rooms spread over multiple floors. There are many stairs\, but the views are worth the climb! Tours are self-guided and begin at the mansion’s front door at times indicated. This activity is recommended for elementary age and up. 
URL:https://fundforthearts.org/event/culbertson-mansion-state-historic-site-copy-copy-copy-copy/2024-07-21/
LOCATION:Culbertson Mansion State Historic Site\, 914 E Main St\, New Albany\, IN\, 47150\, United States
CATEGORIES:Museum or Historic Home
ATTACH;FMTTYPE=image/jpeg:https://fundforthearts.org/wp-content/uploads/2023/06/Culbertson-Mansion-State-Historic-Site.jpg
END:VEVENT
BEGIN:VEVENT
DTSTART;TZID=America/New_York:20240717T100000
DTEND;TZID=America/New_York:20240717T160000
DTSTAMP:20260421T133449
CREATED:20240524T195919Z
LAST-MODIFIED:20240524T200050Z
UID:10004616-1721210400-1721232000@fundforthearts.org
SUMMARY:Culbertson Mansion State Historic Site
DESCRIPTION:See the Victorian grandeur of the home that once belonged to businessman and philanthropist William Culbertson. Learn about 19th century life in New Albany. The three-story mansion contains 25 rooms spread over multiple floors. There are many stairs\, but the views are worth the climb! Tours are self-guided and begin at the mansion’s front door at times indicated. This activity is recommended for elementary age and up. 
URL:https://fundforthearts.org/event/culbertson-mansion-state-historic-site-copy-copy-copy/2024-07-17/
LOCATION:Culbertson Mansion State Historic Site\, 914 E Main St\, New Albany\, IN\, 47150\, United States
CATEGORIES:Museum or Historic Home
ATTACH;FMTTYPE=image/jpeg:https://fundforthearts.org/wp-content/uploads/2023/06/Culbertson-Mansion-State-Historic-Site.jpg
END:VEVENT
BEGIN:VEVENT
DTSTART;TZID=America/New_York:20240714T130000
DTEND;TZID=America/New_York:20240714T160000
DTSTAMP:20260421T133449
CREATED:20240524T200059Z
LAST-MODIFIED:20240524T200147Z
UID:10004625-1720962000-1720972800@fundforthearts.org
SUMMARY:Culbertson Mansion State Historic Site
DESCRIPTION:See the Victorian grandeur of the home that once belonged to businessman and philanthropist William Culbertson. Learn about 19th century life in New Albany. The three-story mansion contains 25 rooms spread over multiple floors. There are many stairs\, but the views are worth the climb! Tours are self-guided and begin at the mansion’s front door at times indicated. This activity is recommended for elementary age and up. 
URL:https://fundforthearts.org/event/culbertson-mansion-state-historic-site-copy-copy-copy-copy/2024-07-14/
LOCATION:Culbertson Mansion State Historic Site\, 914 E Main St\, New Albany\, IN\, 47150\, United States
CATEGORIES:Museum or Historic Home
ATTACH;FMTTYPE=image/jpeg:https://fundforthearts.org/wp-content/uploads/2023/06/Culbertson-Mansion-State-Historic-Site.jpg
END:VEVENT
BEGIN:VEVENT
DTSTART;TZID=America/New_York:20240710T100000
DTEND;TZID=America/New_York:20240710T160000
DTSTAMP:20260421T133449
CREATED:20240524T195919Z
LAST-MODIFIED:20240524T200050Z
UID:10004615-1720605600-1720627200@fundforthearts.org
SUMMARY:Culbertson Mansion State Historic Site
DESCRIPTION:See the Victorian grandeur of the home that once belonged to businessman and philanthropist William Culbertson. Learn about 19th century life in New Albany. The three-story mansion contains 25 rooms spread over multiple floors. There are many stairs\, but the views are worth the climb! Tours are self-guided and begin at the mansion’s front door at times indicated. This activity is recommended for elementary age and up. 
URL:https://fundforthearts.org/event/culbertson-mansion-state-historic-site-copy-copy-copy/2024-07-10/
LOCATION:Culbertson Mansion State Historic Site\, 914 E Main St\, New Albany\, IN\, 47150\, United States
CATEGORIES:Museum or Historic Home
ATTACH;FMTTYPE=image/jpeg:https://fundforthearts.org/wp-content/uploads/2023/06/Culbertson-Mansion-State-Historic-Site.jpg
END:VEVENT
BEGIN:VEVENT
DTSTART;TZID=America/New_York:20240707T130000
DTEND;TZID=America/New_York:20240707T160000
DTSTAMP:20260421T133449
CREATED:20240524T200059Z
LAST-MODIFIED:20240524T200147Z
UID:10004624-1720357200-1720368000@fundforthearts.org
SUMMARY:Culbertson Mansion State Historic Site
DESCRIPTION:See the Victorian grandeur of the home that once belonged to businessman and philanthropist William Culbertson. Learn about 19th century life in New Albany. The three-story mansion contains 25 rooms spread over multiple floors. There are many stairs\, but the views are worth the climb! Tours are self-guided and begin at the mansion’s front door at times indicated. This activity is recommended for elementary age and up. 
URL:https://fundforthearts.org/event/culbertson-mansion-state-historic-site-copy-copy-copy-copy/2024-07-07/
LOCATION:Culbertson Mansion State Historic Site\, 914 E Main St\, New Albany\, IN\, 47150\, United States
CATEGORIES:Museum or Historic Home
ATTACH;FMTTYPE=image/jpeg:https://fundforthearts.org/wp-content/uploads/2023/06/Culbertson-Mansion-State-Historic-Site.jpg
END:VEVENT
BEGIN:VEVENT
DTSTART;TZID=America/New_York:20240703T100000
DTEND;TZID=America/New_York:20240703T160000
DTSTAMP:20260421T133449
CREATED:20240524T195919Z
LAST-MODIFIED:20240524T200050Z
UID:10004614-1720000800-1720022400@fundforthearts.org
SUMMARY:Culbertson Mansion State Historic Site
DESCRIPTION:See the Victorian grandeur of the home that once belonged to businessman and philanthropist William Culbertson. Learn about 19th century life in New Albany. The three-story mansion contains 25 rooms spread over multiple floors. There are many stairs\, but the views are worth the climb! Tours are self-guided and begin at the mansion’s front door at times indicated. This activity is recommended for elementary age and up. 
URL:https://fundforthearts.org/event/culbertson-mansion-state-historic-site-copy-copy-copy/2024-07-03/
LOCATION:Culbertson Mansion State Historic Site\, 914 E Main St\, New Albany\, IN\, 47150\, United States
CATEGORIES:Museum or Historic Home
ATTACH;FMTTYPE=image/jpeg:https://fundforthearts.org/wp-content/uploads/2023/06/Culbertson-Mansion-State-Historic-Site.jpg
END:VEVENT
BEGIN:VEVENT
DTSTART;TZID=America/New_York:20240630T130000
DTEND;TZID=America/New_York:20240630T160000
DTSTAMP:20260421T133449
CREATED:20240524T200059Z
LAST-MODIFIED:20240524T200147Z
UID:10004623-1719752400-1719763200@fundforthearts.org
SUMMARY:Culbertson Mansion State Historic Site
DESCRIPTION:See the Victorian grandeur of the home that once belonged to businessman and philanthropist William Culbertson. Learn about 19th century life in New Albany. The three-story mansion contains 25 rooms spread over multiple floors. There are many stairs\, but the views are worth the climb! Tours are self-guided and begin at the mansion’s front door at times indicated. This activity is recommended for elementary age and up. 
URL:https://fundforthearts.org/event/culbertson-mansion-state-historic-site-copy-copy-copy-copy/2024-06-30/
LOCATION:Culbertson Mansion State Historic Site\, 914 E Main St\, New Albany\, IN\, 47150\, United States
CATEGORIES:Museum or Historic Home
ATTACH;FMTTYPE=image/jpeg:https://fundforthearts.org/wp-content/uploads/2023/06/Culbertson-Mansion-State-Historic-Site.jpg
END:VEVENT
BEGIN:VEVENT
DTSTART;TZID=America/New_York:20240626T100000
DTEND;TZID=America/New_York:20240626T160000
DTSTAMP:20260421T133449
CREATED:20240524T195919Z
LAST-MODIFIED:20240524T200050Z
UID:10004613-1719396000-1719417600@fundforthearts.org
SUMMARY:Culbertson Mansion State Historic Site
DESCRIPTION:See the Victorian grandeur of the home that once belonged to businessman and philanthropist William Culbertson. Learn about 19th century life in New Albany. The three-story mansion contains 25 rooms spread over multiple floors. There are many stairs\, but the views are worth the climb! Tours are self-guided and begin at the mansion’s front door at times indicated. This activity is recommended for elementary age and up. 
URL:https://fundforthearts.org/event/culbertson-mansion-state-historic-site-copy-copy-copy/2024-06-26/
LOCATION:Culbertson Mansion State Historic Site\, 914 E Main St\, New Albany\, IN\, 47150\, United States
CATEGORIES:Museum or Historic Home
ATTACH;FMTTYPE=image/jpeg:https://fundforthearts.org/wp-content/uploads/2023/06/Culbertson-Mansion-State-Historic-Site.jpg
END:VEVENT
BEGIN:VEVENT
DTSTART;TZID=America/New_York:20240623T130000
DTEND;TZID=America/New_York:20240623T160000
DTSTAMP:20260421T133449
CREATED:20240524T200059Z
LAST-MODIFIED:20240524T200147Z
UID:10004622-1719147600-1719158400@fundforthearts.org
SUMMARY:Culbertson Mansion State Historic Site
DESCRIPTION:See the Victorian grandeur of the home that once belonged to businessman and philanthropist William Culbertson. Learn about 19th century life in New Albany. The three-story mansion contains 25 rooms spread over multiple floors. There are many stairs\, but the views are worth the climb! Tours are self-guided and begin at the mansion’s front door at times indicated. This activity is recommended for elementary age and up. 
URL:https://fundforthearts.org/event/culbertson-mansion-state-historic-site-copy-copy-copy-copy/2024-06-23/
LOCATION:Culbertson Mansion State Historic Site\, 914 E Main St\, New Albany\, IN\, 47150\, United States
CATEGORIES:Museum or Historic Home
ATTACH;FMTTYPE=image/jpeg:https://fundforthearts.org/wp-content/uploads/2023/06/Culbertson-Mansion-State-Historic-Site.jpg
END:VEVENT
BEGIN:VEVENT
DTSTART;TZID=America/New_York:20240619T100000
DTEND;TZID=America/New_York:20240619T160000
DTSTAMP:20260421T133449
CREATED:20240524T195919Z
LAST-MODIFIED:20240524T200050Z
UID:10004612-1718791200-1718812800@fundforthearts.org
SUMMARY:Culbertson Mansion State Historic Site
DESCRIPTION:See the Victorian grandeur of the home that once belonged to businessman and philanthropist William Culbertson. Learn about 19th century life in New Albany. The three-story mansion contains 25 rooms spread over multiple floors. There are many stairs\, but the views are worth the climb! Tours are self-guided and begin at the mansion’s front door at times indicated. This activity is recommended for elementary age and up. 
URL:https://fundforthearts.org/event/culbertson-mansion-state-historic-site-copy-copy-copy/2024-06-19/
LOCATION:Culbertson Mansion State Historic Site\, 914 E Main St\, New Albany\, IN\, 47150\, United States
CATEGORIES:Museum or Historic Home
ATTACH;FMTTYPE=image/jpeg:https://fundforthearts.org/wp-content/uploads/2023/06/Culbertson-Mansion-State-Historic-Site.jpg
END:VEVENT
BEGIN:VEVENT
DTSTART;TZID=America/New_York:20240616T130000
DTEND;TZID=America/New_York:20240616T160000
DTSTAMP:20260421T133449
CREATED:20240524T200059Z
LAST-MODIFIED:20240524T200147Z
UID:10004621-1718542800-1718553600@fundforthearts.org
SUMMARY:Culbertson Mansion State Historic Site
DESCRIPTION:See the Victorian grandeur of the home that once belonged to businessman and philanthropist William Culbertson. Learn about 19th century life in New Albany. The three-story mansion contains 25 rooms spread over multiple floors. There are many stairs\, but the views are worth the climb! Tours are self-guided and begin at the mansion’s front door at times indicated. This activity is recommended for elementary age and up. 
URL:https://fundforthearts.org/event/culbertson-mansion-state-historic-site-copy-copy-copy-copy/2024-06-16/
LOCATION:Culbertson Mansion State Historic Site\, 914 E Main St\, New Albany\, IN\, 47150\, United States
CATEGORIES:Museum or Historic Home
ATTACH;FMTTYPE=image/jpeg:https://fundforthearts.org/wp-content/uploads/2023/06/Culbertson-Mansion-State-Historic-Site.jpg
END:VEVENT
BEGIN:VEVENT
DTSTART;TZID=America/New_York:20240612T100000
DTEND;TZID=America/New_York:20240612T160000
DTSTAMP:20260421T133449
CREATED:20240524T195919Z
LAST-MODIFIED:20240524T200050Z
UID:10004611-1718186400-1718208000@fundforthearts.org
SUMMARY:Culbertson Mansion State Historic Site
DESCRIPTION:See the Victorian grandeur of the home that once belonged to businessman and philanthropist William Culbertson. Learn about 19th century life in New Albany. The three-story mansion contains 25 rooms spread over multiple floors. There are many stairs\, but the views are worth the climb! Tours are self-guided and begin at the mansion’s front door at times indicated. This activity is recommended for elementary age and up. 
URL:https://fundforthearts.org/event/culbertson-mansion-state-historic-site-copy-copy-copy/2024-06-12/
LOCATION:Culbertson Mansion State Historic Site\, 914 E Main St\, New Albany\, IN\, 47150\, United States
CATEGORIES:Museum or Historic Home
ATTACH;FMTTYPE=image/jpeg:https://fundforthearts.org/wp-content/uploads/2023/06/Culbertson-Mansion-State-Historic-Site.jpg
END:VEVENT
BEGIN:VEVENT
DTSTART;TZID=America/New_York:20240609T130000
DTEND;TZID=America/New_York:20240609T160000
DTSTAMP:20260421T133449
CREATED:20240524T200059Z
LAST-MODIFIED:20240524T200147Z
UID:10004620-1717938000-1717948800@fundforthearts.org
SUMMARY:Culbertson Mansion State Historic Site
DESCRIPTION:See the Victorian grandeur of the home that once belonged to businessman and philanthropist William Culbertson. Learn about 19th century life in New Albany. The three-story mansion contains 25 rooms spread over multiple floors. There are many stairs\, but the views are worth the climb! Tours are self-guided and begin at the mansion’s front door at times indicated. This activity is recommended for elementary age and up. 
URL:https://fundforthearts.org/event/culbertson-mansion-state-historic-site-copy-copy-copy-copy/2024-06-09/
LOCATION:Culbertson Mansion State Historic Site\, 914 E Main St\, New Albany\, IN\, 47150\, United States
CATEGORIES:Museum or Historic Home
ATTACH;FMTTYPE=image/jpeg:https://fundforthearts.org/wp-content/uploads/2023/06/Culbertson-Mansion-State-Historic-Site.jpg
END:VEVENT
BEGIN:VEVENT
DTSTART;TZID=America/New_York:20240605T100000
DTEND;TZID=America/New_York:20240605T160000
DTSTAMP:20260421T133449
CREATED:20240524T195919Z
LAST-MODIFIED:20240524T200050Z
UID:10004610-1717581600-1717603200@fundforthearts.org
SUMMARY:Culbertson Mansion State Historic Site
DESCRIPTION:See the Victorian grandeur of the home that once belonged to businessman and philanthropist William Culbertson. Learn about 19th century life in New Albany. The three-story mansion contains 25 rooms spread over multiple floors. There are many stairs\, but the views are worth the climb! Tours are self-guided and begin at the mansion’s front door at times indicated. This activity is recommended for elementary age and up. 
URL:https://fundforthearts.org/event/culbertson-mansion-state-historic-site-copy-copy-copy/2024-06-05/
LOCATION:Culbertson Mansion State Historic Site\, 914 E Main St\, New Albany\, IN\, 47150\, United States
CATEGORIES:Museum or Historic Home
ATTACH;FMTTYPE=image/jpeg:https://fundforthearts.org/wp-content/uploads/2023/06/Culbertson-Mansion-State-Historic-Site.jpg
END:VEVENT
BEGIN:VEVENT
DTSTART;TZID=America/New_York:20240602T130000
DTEND;TZID=America/New_York:20240602T160000
DTSTAMP:20260421T133449
CREATED:20240524T200059Z
LAST-MODIFIED:20240524T200147Z
UID:10004619-1717333200-1717344000@fundforthearts.org
SUMMARY:Culbertson Mansion State Historic Site
DESCRIPTION:See the Victorian grandeur of the home that once belonged to businessman and philanthropist William Culbertson. Learn about 19th century life in New Albany. The three-story mansion contains 25 rooms spread over multiple floors. There are many stairs\, but the views are worth the climb! Tours are self-guided and begin at the mansion’s front door at times indicated. This activity is recommended for elementary age and up. 
URL:https://fundforthearts.org/event/culbertson-mansion-state-historic-site-copy-copy-copy-copy/2024-06-02/
LOCATION:Culbertson Mansion State Historic Site\, 914 E Main St\, New Albany\, IN\, 47150\, United States
CATEGORIES:Museum or Historic Home
ATTACH;FMTTYPE=image/jpeg:https://fundforthearts.org/wp-content/uploads/2023/06/Culbertson-Mansion-State-Historic-Site.jpg
END:VEVENT
END:VCALENDAR